BEGIN:VCALENDAR
VERSION:2.0
PRODID:-//Intand Corporation//Tandem//EN
METHOD:PUBLISH
BEGIN:VEVENT
DTSTAMP:20260423T081905Z
DTSTART:20200324T220000Z
DTEND:20200325T000000Z
TRANSP:TRANSPARENT
PRIORITY:0
SUMMARY:[Cancelled] Baseball\, Varsity: VHS @ AHA
LOCATION:Atrisco Heritage Academy
DESCRIPTION:Groups:\nAtrisco Heritage Academy Baseball Varsity\nValley Hig
 h Baseball Boys Varsity\n\nSchools:\nAtrisco Heritage Academy\nValley High
 \n\nLocation:\nAtrisco Heritage Academy\n\n
URL;VALUE=URI:http://vhs.albuquerquenmus.tandem.co/index.php?type=view&act
 ion=event&id=89452
CREATED:20200127T153455Z
LAST-MODIFIED:20200314T024656Z
UID:event-89452-albuquerquenmus@intand.com
END:VEVENT
END:VCALENDAR
