BEGIN:VCALENDAR
VERSION:2.0
PRODID:-//Intand Corporation//Tandem//EN
METHOD:PUBLISH
BEGIN:VEVENT
DTSTAMP:20260420T013341Z
DTSTART:20190131T230000Z
DTEND:20190201T003000Z
TRANSP:TRANSPARENT
PRIORITY:0
SUMMARY:Basketball\, C-Team-B: Hope Christian @ VHS 
LOCATION:Valley High
DESCRIPTION:Groups:\nValley High Basketball Boys C\n\nSchools:\nValley Hig
 h\nHope Christian\n\nLocation:\nValley High\n\n
URL;VALUE=URI:http://vhs.albuquerquenmus.tandem.co/index.php?type=view&act
 ion=event&id=78580
CREATED:20180418T002111Z
LAST-MODIFIED:20180723T174527Z
UID:event-78580-albuquerquenmus@intand.com
END:VEVENT
END:VCALENDAR
